BEGIN:VCALENDAR
VERSION:2.0
PRODID:-//Bankstown Hotel - ECPv6.15.18//NONSGML v1.0//EN
CALSCALE:GREGORIAN
METHOD:PUBLISH
X-ORIGINAL-URL:https://bankstownhotel.com.au
X-WR-CALDESC:Events for Bankstown Hotel
REFRESH-INTERVAL;VALUE=DURATION:PT1H
X-Robots-Tag:noindex
X-PUBLISHED-TTL:PT1H
BEGIN:VTIMEZONE
TZID:Australia/Sydney
BEGIN:STANDARD
TZOFFSETFROM:+1100
TZOFFSETTO:+1000
TZNAME:AEST
DTSTART:20230401T160000
END:STANDARD
BEGIN:DAYLIGHT
TZOFFSETFROM:+1000
TZOFFSETTO:+1100
TZNAME:AEDT
DTSTART:20230930T160000
END:DAYLIGHT
BEGIN:STANDARD
TZOFFSETFROM:+1100
TZOFFSETTO:+1000
TZNAME:AEST
DTSTART:20240406T160000
END:STANDARD
BEGIN:DAYLIGHT
TZOFFSETFROM:+1000
TZOFFSETTO:+1100
TZNAME:AEDT
DTSTART:20241005T160000
END:DAYLIGHT
BEGIN:STANDARD
TZOFFSETFROM:+1100
TZOFFSETTO:+1000
TZNAME:AEST
DTSTART:20250405T160000
END:STANDARD
BEGIN:DAYLIGHT
TZOFFSETFROM:+1000
TZOFFSETTO:+1100
TZNAME:AEDT
DTSTART:20251004T160000
END:DAYLIGHT
BEGIN:STANDARD
TZOFFSETFROM:+1100
TZOFFSETTO:+1000
TZNAME:AEST
DTSTART:20260404T160000
END:STANDARD
BEGIN:DAYLIGHT
TZOFFSETFROM:+1000
TZOFFSETTO:+1100
TZNAME:AEDT
DTSTART:20261003T160000
END:DAYLIGHT
BEGIN:STANDARD
TZOFFSETFROM:+1100
TZOFFSETTO:+1000
TZNAME:AEST
DTSTART:20270403T160000
END:STANDARD
BEGIN:DAYLIGHT
TZOFFSETFROM:+1000
TZOFFSETTO:+1100
TZNAME:AEDT
DTSTART:20271002T160000
END:DAYLIGHT
END:VTIMEZONE
BEGIN:VEVENT
DTSTART;TZID=Australia/Sydney:20240704T170000
DTEND;TZID=Australia/Sydney:20260831T190000
DTSTAMP:20260425T203510
CREATED:20240703T023044Z
LAST-MODIFIED:20251128T034501Z
UID:10002770-1720112400-1788202800@bankstownhotel.com.au
SUMMARY:JAG THE JOKER
DESCRIPTION:Jackpot starts at $500 Cash and keeps growing every week until someone wins! \n\n\n\nCollect tickets with any purchase at the bar from 5pm onwards each Thursday. \n\n\n\nThe lucky winner will be drawn at 7pm sharp. \n\n\n\n*Terms and conditions.
URL:https://bankstownhotel.com.au/whats-on/jag-the-joker/
ATTACH;FMTTYPE=image/jpeg:https://bankstownhotel.com.au/wp-content/uploads/sites/5/2024/07/Jag-the-Joker-2025_Tile-scaled.jpg
END:VEVENT
BEGIN:VEVENT
DTSTART;TZID=Australia/Sydney:20240902T030000
DTEND;TZID=Australia/Sydney:20261031T170000
DTSTAMP:20260425T203510
CREATED:20240904T002437Z
LAST-MODIFIED:20251128T044452Z
UID:10004975-1725246000-1793466000@bankstownhotel.com.au
SUMMARY:Happy Hour - Monday to Friday
DESCRIPTION:Happy Hour at Bankstown Hotel! \n\n\n\nEnjoy our daily happy hour from Monday to Friday\, 4-6pm. Sip on a house beer and/or house wine for only $6 each. \n\n\n\n\n\n\n\n  \n\n\n\nBankstown Hotel is committed to responsible alcohol service.
URL:https://bankstownhotel.com.au/whats-on/happy-hour-monday-to-friday/
ATTACH;FMTTYPE=image/jpeg:https://bankstownhotel.com.au/wp-content/uploads/sites/5/2024/09/BT-Happy-Hour-Tiles.jpg
END:VEVENT
BEGIN:VEVENT
DTSTART;TZID=Australia/Sydney:20260420T000000
DTEND;TZID=Australia/Sydney:20260831T235959
DTSTAMP:20260425T203510
CREATED:20260421T034303Z
LAST-MODIFIED:20260421T034303Z
UID:10010797-1776643200-1788220799@bankstownhotel.com.au
SUMMARY:Stay Direct\, Get 20% Off
DESCRIPTION:When you book accomodation direct with us\, receive 20% off food and drinks at our bistro during your stay! \nT&Cs apply. A minimum spend of $20 is required. \nBook your next stay on our website today.
URL:https://bankstownhotel.com.au/whats-on/stay-direct-get-20-off/
ATTACH;FMTTYPE=image/png:https://bankstownhotel.com.au/wp-content/uploads/sites/5/2026/04/BT-Accom-Vouchers_Tile-scaled.png
END:VEVENT
BEGIN:VEVENT
DTSTART;TZID=Australia/Sydney:20260425T000000
DTEND;TZID=Australia/Sydney:20260425T235959
DTSTAMP:20260425T203510
CREATED:20260421T003131Z
LAST-MODIFIED:20260421T024355Z
UID:10010796-1777075200-1777161599@bankstownhotel.com.au
SUMMARY:ANZAC Day
DESCRIPTION:ANZAC Day at Bankstown Hotel! \nEnjoy 2UP in the garden from 2pm and a sausage sizzle available\, with all proceeds to Legacy. \nSee you then!
URL:https://bankstownhotel.com.au/whats-on/anzac-day-3/
ATTACH;FMTTYPE=image/jpeg:https://bankstownhotel.com.au/wp-content/uploads/sites/5/2026/04/Bankstown-Anzac-Day-2026_Tile.jpg
END:VEVENT
BEGIN:VEVENT
DTSTART;TZID=Australia/Sydney:20260427T080000
DTEND;TZID=Australia/Sydney:20260427T170000
DTSTAMP:20260425T203510
CREATED:20250304T015027Z
LAST-MODIFIED:20250304T015030Z
UID:10008282-1777276800-1777309200@bankstownhotel.com.au
SUMMARY:Lunch Specials
DESCRIPTION:Lunch Specials from $16 – All Weekday Long! \n\n\n\nMonday – Friday 11am – 3pm
URL:https://bankstownhotel.com.au/whats-on/lunch-specials-2/2026-04-27/
CATEGORIES:Specials
ATTACH;FMTTYPE=image/jpeg:https://bankstownhotel.com.au/wp-content/uploads/sites/5/2025/02/Bankstown-Lunch-Specials-Tile.jpg
END:VEVENT
BEGIN:VEVENT
DTSTART;TZID=Australia/Sydney:20260427T160000
DTEND;TZID=Australia/Sydney:20260427T210000
DTSTAMP:20260425T203510
CREATED:20240903T234759Z
LAST-MODIFIED:20240916T005825Z
UID:10003122-1777305600-1777323600@bankstownhotel.com.au
SUMMARY:Monday Kids Eat Free
DESCRIPTION:Every Monday\, enjoy a delicious meal together at Bankstown Hotel. Kids will eat free with any main meal purchased. It’s the perfect opportunity for a fun and affordable night out.Don’t miss out on our Kids Eat Free deal at Bankstown Hotel every Monday from 4-9pm
URL:https://bankstownhotel.com.au/whats-on/kids-eat-free/2026-04-27/
CATEGORIES:Specials
ATTACH;FMTTYPE=image/jpeg:https://bankstownhotel.com.au/wp-content/uploads/sites/5/2024/09/Kids-Eat-Free-Tile.jpg
END:VEVENT
BEGIN:VEVENT
DTSTART;TZID=Australia/Sydney:20260428T170000
DTEND;TZID=Australia/Sydney:20260428T210000
DTSTAMP:20260425T203510
CREATED:20240904T000417Z
LAST-MODIFIED:20240916T005938Z
UID:10003489-1777395600-1777410000@bankstownhotel.com.au
SUMMARY:Tuesday 2 for 1 nights
DESCRIPTION:2 for 1 Tuesdays at Bankstown Hotel! \n\n\n\nEvery Tuesday\, enjoy a night out with a friend and take advantage of our 2 for 1 special on meals. Dine in only and excludes the grill. It’s the perfect opportunity to try something new or order one of your favourite dishes. \n\n\n\nWhen: Tuesdays from 5-9pm
URL:https://bankstownhotel.com.au/whats-on/tuesday-2-for-1-nights/2026-04-28/
CATEGORIES:Specials
ATTACH;FMTTYPE=image/jpeg:https://bankstownhotel.com.au/wp-content/uploads/sites/5/2024/09/2-For-1-Tile.jpg
END:VEVENT
BEGIN:VEVENT
DTSTART;TZID=Australia/Sydney:20260429T170000
DTEND;TZID=Australia/Sydney:20260429T210000
DTSTAMP:20260425T203510
CREATED:20230901T022424Z
LAST-MODIFIED:20240916T011132Z
UID:10002101-1777482000-1777496400@bankstownhotel.com.au
SUMMARY:Wednesday Chicken Schnitty or Parmi
DESCRIPTION:Wednesday Night Special: Chicken Schnitzel or Parmigiana \n\n\n\nCraving a classic Aussie fav dish? Every Wednesday\, we’re offering our delicious chicken schnitzel or parmigiana for just $16. Enjoy a crispy\, golden-brown schnitzel or a cheesy parmigiana. It’s the perfect midweek treat you won’t want to miss!
URL:https://bankstownhotel.com.au/whats-on/wednesday-chicken-schnitty-or-parmi/2026-04-29/
CATEGORIES:Specials
ATTACH;FMTTYPE=image/jpeg:https://bankstownhotel.com.au/wp-content/uploads/sites/5/2023/09/Schnitzel-Night-Tile.jpg
END:VEVENT
BEGIN:VEVENT
DTSTART;TZID=Australia/Sydney:20260430T170000
DTEND;TZID=Australia/Sydney:20260430T210000
DTSTAMP:20260425T203510
CREATED:20231127T061842Z
LAST-MODIFIED:20240916T010909Z
UID:10006380-1777568400-1777582800@bankstownhotel.com.au
SUMMARY:Thursday Steak & Wings
DESCRIPTION:Indulge in a yummy meal without breaking the bank! Join us every Thursday night for our irresistible steak and wings combo\, available for only $22. Taste the juicy tenderness of our grilled steak paired with delish wings. It’s the perfect way to enjoy a Thursday dinner.
URL:https://bankstownhotel.com.au/whats-on/thursday-steak-wings/2026-04-30/
CATEGORIES:Specials
ATTACH;FMTTYPE=image/jpeg:https://bankstownhotel.com.au/wp-content/uploads/sites/5/2023/11/Steak-Wings-Tile.jpg
END:VEVENT
BEGIN:VEVENT
DTSTART;TZID=Australia/Sydney:20260501T163000
DTEND;TZID=Australia/Sydney:20260501T183000
DTSTAMP:20260425T203510
CREATED:20230524T062831Z
LAST-MODIFIED:20250203T031735Z
UID:10001579-1777653000-1777660200@bankstownhotel.com.au
SUMMARY:Friday Meat Raffle
DESCRIPTION:Join us every Friday for our weekly meat raffle! 🍖🥩 \n\n\n\n🕟 Tickets on sale from 4:30 PM🎉 Prizes drawn from 6 PM💙 All proceeds go to Sydney Children’s Hospital Foundation \n\n\n\nCome down\, grab a ticket\, and support a great cause!
URL:https://bankstownhotel.com.au/whats-on/friday-meat-raffle/2026-05-01/
LOCATION:Rocksia Hotel
CATEGORIES:Specials
ATTACH;FMTTYPE=image/jpeg:https://bankstownhotel.com.au/wp-content/uploads/sites/5/2025/02/Bankstown-Hotel-Meat-Raffle-25-01-1.jpg
END:VEVENT
BEGIN:VEVENT
DTSTART;TZID=Australia/Sydney:20260510T000000
DTEND;TZID=Australia/Sydney:20260510T235959
DTSTAMP:20260425T203510
CREATED:20260421T002821Z
LAST-MODIFIED:20260421T002821Z
UID:10010795-1778371200-1778457599@bankstownhotel.com.au
SUMMARY:Mother's Day
DESCRIPTION:Spoil Mum this Mother’s Day with a complimentary meal for Mum and a dessert on us! \nT&Cs apply: Mums will receive a complimentary meal with any other main meal purchase.
URL:https://bankstownhotel.com.au/whats-on/mothers-day/
ATTACH;FMTTYPE=image/jpeg:https://bankstownhotel.com.au/wp-content/uploads/sites/5/2026/04/Tile-25.jpg
END:VEVENT
END:VCALENDAR